BEGIN:VCALENDAR
VERSION:2.0
PRODID:-//Osservatorio Sulle Discriminazioni - ECPv5.5.0.1//NONSGML v1.0//EN
CALSCALE:GREGORIAN
METHOD:PUBLISH
X-WR-CALNAME:Osservatorio Sulle Discriminazioni
X-ORIGINAL-URL:http://www.osservatoriodiscriminazioni.org
X-WR-CALDESC:Eventi per Osservatorio Sulle Discriminazioni
BEGIN:VTIMEZONE
TZID:Europe/Rome
BEGIN:DAYLIGHT
TZOFFSETFROM:+0100
TZOFFSETTO:+0200
TZNAME:CEST
DTSTART:20180325T010000
END:DAYLIGHT
BEGIN:STANDARD
TZOFFSETFROM:+0200
TZOFFSETTO:+0100
TZNAME:CET
DTSTART:20181028T010000
END:STANDARD
END:VTIMEZONE
BEGIN:VEVENT
DTSTART;TZID=Europe/Rome:20180706T153000
DTEND;TZID=Europe/Rome:20180706T183000
DTSTAMP:20260422T070842
CREATED:20180621T155847Z
LAST-MODIFIED:20180621T155847Z
UID:1026-1530891000-1530901800@www.osservatoriodiscriminazioni.org
SUMMARY:EGUAGLIANZA E DIVIETI DI DISCRIMINAZIONE NELL’ERA DEL DIRITTO DEL LAVORO DEROGABILE
DESCRIPTION:“EGUAGLIANZA E DIVIETI DI DISCRIMINAZIONE NELL’ERA DEL DIRITTO DEL LAVORO DEROGABILE” (Ed. Ediesse\, 2018)\, è la raccolta di studi a cura della prof.ssa Olivia Bonardi che sarà presentato a Firenze il 6 luglio 2018\, dalle ore 16.00\, presso la Biblioteca Marucelliana (via Cavour 43).  \nLa riduzione delle tutele classiche e inderogabili del lavoro realizzata con le recenti riforme mediante l’ampliamento degli spazi di regolazione concessi ai poteri imprenditoriali e alla contrattazione collettiva\, specie aziendale\, aumenta i trattamenti differenziali e le diseguaglianze nel lavoro\, e al contempo sposta l’attenzione sul rispetto dei divieti di discriminazione\, sempre più invocati a tutela dei diritti dei lavoratori. \nGli studi raccolti nel volume affrontano il tema delle discriminazioni alla luce delle riforme più recenti\, interrogandosi sul ruolo svolto dal diritto antidiscriminatorio nell’attuale sistema normativo\, in una prospettiva che tiene conto sia dell’evoluzione del diritto nazionale\, sia del contesto e della regolamentazione europea in cui esso si colloca.  \nL’opera si caratterizza per il dialogo che si instaura tra gli Autori: accademici\, magistrati e avvocati impegnati quotidianamente nello studio e nell’applicazione concreta del diritto antidiscriminatorio.  \nIl volume contiene scritti di Cristina Alessi\, Lisa Amoriello\, Marzia Barbera\, Olivia Bonardi\, Silvia Borelli\, Laura Calafà\, Laura Curcio\, Maria Dolores Ferrara\, Valeria Filì\, Giorgio Fontana\, Donata Gottardi\, Alberto Guariso\, Fausta Guarriello\, Andrea Lassandari\,  \nCinzia Meraviglia\, Roberta Nunin\, Carla Ponterio\, Annalisa Rosiello\, RitaSanlorenzo\, Stefania Scarponi\, Elisabetta Tarquini\, Anna Luisa Terzi. \nPer quanto di Vostro interesse\, nell’invitarVi a partecipare a questo incontro\, allego la locandina\, l’invito e la copertina del libro.  \nSaranno presenti\, fra gli autori\, la Prof.ssa Olivia Bonardi\, Associata di diritto del lavoro nell’Università di Milano\, la Dott.ssa Elisabetta Tarquini\, Consigliera Corte d’appello Firenze\, sezione lavoro\, l’Avv. Lisa Amoriello\, foro di Pistoia\, che dialogheranno con il pubblico. \nL’evento\, organizzato in collaborazione con la Fondazione per la Formazione Forense dell’Ordine degli avvocati di Firenze\, con AGI Toscana\, con la Fondazione Giuseppe Pera e con ADGI – Associazione donne giuriste italiane\, sezione di Firenze\, è accreditato dall’Ordine degli Avvocati di Firenze per n. 3 crediti formativi. \n\n\n\n\n\n						\n			\n				\n				Share on Facebook\n			\n		\n\n		\n			\n				\n				Tweet\n			\n		\n\n		\n			\n				\n				Follow us\n			\n		\n\n		\n			\n				\n				Share\n			\n		\n\n		\n			\n				\n				Share\n			\n		\n\n		\n			\n				\n				Share\n			\n		\n\n		\n			\n				\n				Share\n			\n		\n\n		\n			\n				\n				Share
URL:http://www.osservatoriodiscriminazioni.org/index.php/event/eguaglianza-divieti-discriminazione-nellera-del-diritto-del-lavoro-derogabile/
CATEGORIES:Convegno
ATTACH;FMTTYPE=image/png:http://www.osservatoriodiscriminazioni.org/wp-content/uploads/2018/06/convegno-6-luglio.png
END:VEVENT
END:VCALENDAR