BEGIN:VCALENDAR
VERSION:2.0
PRODID:-//Osservatorio Sulle Discriminazioni - ECPv5.5.0.1//NONSGML v1.0//EN
CALSCALE:GREGORIAN
METHOD:PUBLISH
X-WR-CALNAME:Osservatorio Sulle Discriminazioni
X-ORIGINAL-URL:http://www.osservatoriodiscriminazioni.org
X-WR-CALDESC:Eventi per Osservatorio Sulle Discriminazioni
BEGIN:VTIMEZONE
TZID:Europe/Rome
BEGIN:DAYLIGHT
TZOFFSETFROM:+0100
TZOFFSETTO:+0200
TZNAME:CEST
DTSTART:20180325T010000
END:DAYLIGHT
BEGIN:STANDARD
TZOFFSETFROM:+0200
TZOFFSETTO:+0100
TZNAME:CET
DTSTART:20181028T010000
END:STANDARD
END:VTIMEZONE
BEGIN:VEVENT
DTSTART;VALUE=DATE:20180112
DTEND;VALUE=DATE:20180113
DTSTAMP:20260422T101908
CREATED:20180105T114045Z
LAST-MODIFIED:20180105T114045Z
UID:998-1515715200-1515801599@www.osservatoriodiscriminazioni.org
SUMMARY:Velo islamico nel diritto del lavoro
DESCRIPTION:Il velo islamico nel diritto del lavoro \nPROGRAMMA \nOre 14:00 – 14:30  REGISTRAZIONE DEI PARTECIPANTI \nOre 14:30 APERTURA DEI LAVORI E SALUTI ISTITUZIONALI Avv. Alessandra Tocci – Vicepresidente dell’Associazione Donne Giuriste Italia – Sez. Firenze \nINTRODUZIONE: Dott. Roberta Santoni Rugiu – Giudice del Lavoro presso la Corte di Appello di Firenze \nIL VELO NON INTEGRALE NELLA GIURISPRUDENZA: STRATEGIE GLOBALI E RISPOSTE LOCALI Relatore: Prof. Marco Ventura – Università di Siena \nL’ORIENTAMENTO DELLA CORTE DI GIUSTIZIA TRA DIVIETO DI DISCRIMINAZIONE E LIBERTÀ D’IMPRESA Relatore: Prof. Chiara Favilli – Università di Firenze \nI SIMBOLI RELIGIOSI\, LA PROFESSIONE DEL CREDO E LA LIBERTÀ DI INIZIATIVA ECONOMICA: RIFLESSIONI INTORNO ALLA FATTISPECIE DISCRIMINATORIA Relatore: Avv. Lisa Amoriello – Foro di Pistoia \nSIMBOLOGIA RELIGIOSA E QUESTIONI DI GENERE Relatore: Avv. Marina Capponi – Foro di Firenze \nCONCLUSIONI: Dott. Elisabetta Tarquini – Giudice del Lavoro presso la Corte di Appello di Firenze Ore 18:00 \nDIBATTITO E CHIUSURA DEI LAVORI \nINFORMAZIONI GENERALI \nSede del Corso: Auditorium “Adone Zoli” dell’Ordine degli Avvocati di Firenze c/o Nuovo Palazzo di Giustizia – Blocco G – Piano 0 – Viale Alessandro Guidoni\, 61 Firenze. \nModalità di iscrizione: La partecipazione è gratuita. Verranno accettate esclusivamente le richieste ricevute telematicamente attraverso l’area riservata Sfera alla quale si potrà accedere dal link presente sulla pagina dell’evento pubblicato sul sito www.fondazioneforensefirenze.it \nTermine cancellazioni per Avvocati: Si invita a dare notizia di eventuali disdette della partecipazione (attraverso l’area Sfera) entro le ore 19:00 del giorno precedente all’evento (oltre tale termine è ammessa la comunicazione a mezzo mail) per consentire l’ammissione dei colleghi esclusi segnalando che la mancata partecipazione\, per 2 volte nel semestre solare e senza che sia stata effettuata la cancellazione\, consegue l’impossibilità di iscriversi ad Eventi Formativi gratuiti per i 6 mesi successivi dall’ultimo degli eventi disertati. \nAttestato di frequenza: Non è previsto il rilascio di alcun attestato posto che potranno verificare la propria situazione crediti aggiornata direttamente dal proprio profilo Sfera. \nCrediti formativi: Ai sensi dell’art. 20\, comma 1\, lettera a) del nuovo Regolamento per la formazione continua approvato dal CNF il 16/07/2014 e modificato con delibera del 30/07/2015\, per la partecipazione all’evento è stata proposta l’attribuzione di n. 3 crediti formativi in materia non obbligatoria. L’evento è in corso di accreditamento e quindi la concessione dei crediti è subordinata alla delibera della Commissione Consiliare competente. Si ricorda che ai sensi dell’art. 20\, comma 5 dello stesso regolamento\, per la partecipazione agli eventi della durata di una o mezza giornata i crediti formativi verranno riconosciuti solo qualora risulti documentata la partecipazione dell’iscritto all’intero evento. \nModalità di accreditamento: Ricordiamo inoltre che non sarà più possibile l’accreditamento per tutti coloro sprovvisti del tesserino contactless (fatta eccezione per gli iscritti ad Ordini Forensi non inclusi nel circuito Sfera). \n  \n\n						\n			\n				\n				Share on Facebook\n			\n		\n\n		\n			\n				\n				Tweet\n			\n		\n\n		\n			\n				\n				Follow us\n			\n		\n\n		\n			\n				\n				Share\n			\n		\n\n		\n			\n				\n				Share\n			\n		\n\n		\n			\n				\n				Share\n			\n		\n\n		\n			\n				\n				Share\n			\n		\n\n		\n			\n				\n				Share
URL:http://www.osservatoriodiscriminazioni.org/index.php/event/velo-islamico-nel-diritto-del-lavoro/
LOCATION:Auditorium “Adone Zoli” dell’Ordine degli Avvocati di Firenze c/o Nuovo Palazzo di Giustizia – Blocco G – Piano 0 –\, Viale Alessandro Guidoni\, 61\, Firenze\, Italia
CATEGORIES:Convegno
ATTACH;FMTTYPE=image/png:http://www.osservatoriodiscriminazioni.org/wp-content/uploads/2018/01/locandina-convegno-velo.png
END:VEVENT
END:VCALENDAR